BEGIN:VCALENDAR
VERSION:2.0
PRODID:-//Charleston Area Justice Ministry - ECPv6.15.17.1//NONSGML v1.0//EN
CALSCALE:GREGORIAN
METHOD:PUBLISH
X-WR-CALNAME:Charleston Area Justice Ministry
X-ORIGINAL-URL:https://charlestonareajusticeministry.org
X-WR-CALDESC:Events for Charleston Area Justice Ministry
REFRESH-INTERVAL;VALUE=DURATION:PT1H
X-Robots-Tag:noindex
X-PUBLISHED-TTL:PT1H
BEGIN:VTIMEZONE
TZID:America/New_York
BEGIN:DAYLIGHT
TZOFFSETFROM:-0500
TZOFFSETTO:-0400
TZNAME:EDT
DTSTART:20250309T070000
END:DAYLIGHT
BEGIN:STANDARD
TZOFFSETFROM:-0400
TZOFFSETTO:-0500
TZNAME:EST
DTSTART:20251102T060000
END:STANDARD
BEGIN:DAYLIGHT
TZOFFSETFROM:-0500
TZOFFSETTO:-0400
TZNAME:EDT
DTSTART:20260308T070000
END:DAYLIGHT
BEGIN:STANDARD
TZOFFSETFROM:-0400
TZOFFSETTO:-0500
TZNAME:EST
DTSTART:20261101T060000
END:STANDARD
BEGIN:DAYLIGHT
TZOFFSETFROM:-0500
TZOFFSETTO:-0400
TZNAME:EDT
DTSTART:20270314T070000
END:DAYLIGHT
BEGIN:STANDARD
TZOFFSETFROM:-0400
TZOFFSETTO:-0500
TZNAME:EST
DTSTART:20271107T060000
END:STANDARD
END:VTIMEZONE
BEGIN:VEVENT
DTSTART;TZID=America/New_York:20260427T183000
DTEND;TZID=America/New_York:20260427T200000
DTSTAMP:20260423T060627
CREATED:20250915T155415Z
LAST-MODIFIED:20260326T185626Z
UID:3063-1777314600-1777320000@charlestonareajusticeministry.org
SUMMARY:Nehemiah Action
DESCRIPTION:Click here to register\nDate:April 27\, 2026\nTime: 6:30 – 8:00 pm\nLocation: Mt. Moriah Missionary Baptist Church\nWho Attends: Team Leaders\, Clergy\, Network Members & their guests\nDescription: The centerpiece of our year — thousands gather to call for justice\, present solutions\, and stand with one voice for change.
URL:https://charlestonareajusticeministry.org/event/nehemiah-action-2/
LOCATION:Mount Moriah Missionary Baptist\, 7396 Rivers Avenue\, North Charleston\, SC\, 29406\, United States
END:VEVENT
BEGIN:VEVENT
DTSTART;TZID=America/New_York:20260518T183000
DTEND;TZID=America/New_York:20260518T200000
DTSTAMP:20260423T060627
CREATED:20250915T155536Z
LAST-MODIFIED:20250915T155536Z
UID:3065-1779129000-1779134400@charlestonareajusticeministry.org
SUMMARY:Celebration
DESCRIPTION:Date: May 18\, 2026\nTime: 6:30 – 8:00 pm\nLocation: (TBD)\nWho Attends: Team Leaders\, Clergy\, Network Members\nDescription: We end the season with joy\, celebrating victories\, recognizing leaders\, and honoring the work of justice we’ve done together.
URL:https://charlestonareajusticeministry.org/event/celebration/
END:VEVENT
END:VCALENDAR